BEGIN:VCALENDAR
VERSION:2.0
PRODID:icalendar-ruby
CALSCALE:GREGORIAN
METHOD:PUBLISH
BEGIN:VEVENT
DTSTAMP:20260425T190324Z
UID:5-1391774@rwbbloomington.com
DTSTART:20261101T160000Z
DTEND:20261101T170000Z
CLASS:PUBLIC
CREATED:20260425T134010
DESCRIPTION:Sunday Worship
LAST-MODIFIED:20260425T134010
LOCATION:
SUMMARY:Sunday Worship
URL;VALUE=URI:https://rwbbloomington.com/events/sunday-worship/2026-11-01
END:VEVENT
END:VCALENDAR
