BEGIN:VCALENDAR
VERSION:2.0
PRODID:icalendar-ruby
CALSCALE:GREGORIAN
METHOD:PUBLISH
BEGIN:VEVENT
DTSTAMP:20260425T133433Z
UID:5-1391012@rwbbloomington.com
DTSTART:20261004T150000Z
DTEND:20261004T160000Z
CLASS:PUBLIC
CREATED:20260425T081921
DESCRIPTION:Sunday Worship
LAST-MODIFIED:20260425T081921
LOCATION:
SUMMARY:Sunday Worship
URL;VALUE=URI:https://rwbbloomington.com/events/sunday-worship/2026-10-04
END:VEVENT
END:VCALENDAR
