BEGIN:VCALENDAR
VERSION:2.0
PRODID:icalendar-ruby
CALSCALE:GREGORIAN
METHOD:PUBLISH
BEGIN:VEVENT
DTSTAMP:20260425T120852Z
UID:5-1390632@rwbbloomington.com
DTSTART:20260927T150000Z
DTEND:20260927T160000Z
CLASS:PUBLIC
CREATED:20260424T223508
DESCRIPTION:Sunday Worship
LAST-MODIFIED:20260424T223508
LOCATION:
SUMMARY:Sunday Worship
URL;VALUE=URI:https://rwbbloomington.com/events/sunday-worship/2026-09-27
END:VEVENT
END:VCALENDAR
