BEGIN:VCALENDAR
VERSION:2.0
PRODID:icalendar-ruby
CALSCALE:GREGORIAN
METHOD:PUBLISH
BEGIN:VEVENT
DTSTAMP:20260423T090502Z
UID:5-1386081@rwbbloomington.com
DTSTART:20260906T150000Z
DTEND:20260906T160000Z
CLASS:PUBLIC
CREATED:20260422T230106
DESCRIPTION:Sunday Worship
LAST-MODIFIED:20260422T230106
LOCATION:
SUMMARY:Sunday Worship
URL;VALUE=URI:https://rwbbloomington.com/events/sunday-worship/2026-09-06
END:VEVENT
END:VCALENDAR
