BEGIN:VCALENDAR
VERSION:2.0
PRODID:icalendar-ruby
CALSCALE:GREGORIAN
METHOD:PUBLISH
BEGIN:VEVENT
DTSTAMP:20260421T093255Z
UID:5-1381532@rwbbloomington.com
DTSTART:20260830T150000Z
DTEND:20260830T160000Z
CLASS:PUBLIC
CREATED:20260420T210734
DESCRIPTION:Sunday Worship
LAST-MODIFIED:20260420T210734
LOCATION:
SUMMARY:Sunday Worship
URL;VALUE=URI:https://rwbbloomington.com/events/sunday-worship/2026-08-30
END:VEVENT
END:VCALENDAR
